BEGIN:VCALENDAR
VERSION:2.0
PRODID:-//JustinEtincelle - ECPv6.15.20//NONSGML v1.0//EN
CALSCALE:GREGORIAN
METHOD:PUBLISH
X-ORIGINAL-URL:https://justinetincelle.com
X-WR-CALDESC:Évènements pour JustinEtincelle
REFRESH-INTERVAL;VALUE=DURATION:PT1H
X-Robots-Tag:noindex
X-PUBLISHED-TTL:PT1H
BEGIN:VTIMEZONE
TZID:Europe/Paris
BEGIN:DAYLIGHT
TZOFFSETFROM:+0100
TZOFFSETTO:+0200
TZNAME:CEST
DTSTART:20250330T010000
END:DAYLIGHT
BEGIN:STANDARD
TZOFFSETFROM:+0200
TZOFFSETTO:+0100
TZNAME:CET
DTSTART:20251026T010000
END:STANDARD
BEGIN:DAYLIGHT
TZOFFSETFROM:+0100
TZOFFSETTO:+0200
TZNAME:CEST
DTSTART:20260329T010000
END:DAYLIGHT
BEGIN:STANDARD
TZOFFSETFROM:+0200
TZOFFSETTO:+0100
TZNAME:CET
DTSTART:20261025T010000
END:STANDARD
BEGIN:DAYLIGHT
TZOFFSETFROM:+0100
TZOFFSETTO:+0200
TZNAME:CEST
DTSTART:20270328T010000
END:DAYLIGHT
BEGIN:STANDARD
TZOFFSETFROM:+0200
TZOFFSETTO:+0100
TZNAME:CET
DTSTART:20271031T010000
END:STANDARD
END:VTIMEZONE
BEGIN:VEVENT
DTSTART;TZID=Europe/Paris:20260208T090000
DTEND;TZID=Europe/Paris:20260208T130000
DTSTAMP:20260421T035517
CREATED:20250822T085013Z
LAST-MODIFIED:20251011T121738Z
UID:1191-1770541200-1770555600@justinetincelle.com
SUMMARY:Atelier Numérologie et Oracle
DESCRIPTION:C’est avec joie que Justine et Marie-Agnès vous guideront dans ces stages \, pour vous aider à explorer et concrétiser vos projets pour le mois à venir. Au programme : des ateliers FUN\, ludiques et 100 % interactifs\, conçus pour stimuler votre créativité et votre motivation !​ \nPrésentation de l’Atelier : Numérologie et Oracles​\nDécouvrez un voyage fascinant au cœur de vous-même grâce à la puissance de la numérologie et des oracles. Cet atelier est une invitation à explorer des outils ancestraux de connaissance de soi et de guidance spirituelle\, dans une ambiance bienveillante et intuitive. \nAu programme :🌞\n-La numérologie : 🔢Apprenez à décrypter les chiffres qui vous entourent et à découvrir leur influence sur votre vie. À travers votre date de naissance et le mois\, vous comprendrez comment ces nombres révèlent vos défis et vos opportunités. \n-Les oracles : 💟Plongez\, mois par mois\, dans l’univers inspirant des cartes oraculaires qui en complément de vos chiffres. Cela vous apportera encore plus de clarté enfin de faire des choix conscients. \n– Ateliers 100% pratiques :  ⬆️➡️⤴️ \n– Calculez et interprétez vos énergies spécifiques du mois. \n– Tirer vos propres cartes et analyser leur signification. \n– Échanger avec les autres participants pour enrichir votre compréhension. \nPour qui ?\nCet atelier s’adresse à tous\, que vous soyez curieux(se) de découvrir ces disciplines ou déjà initié(e). Aucun prérequis n’est nécessaire\, seulement l’envie d’en apprendre davantage sur vous-même et sur les messages que l’univers vous envoie. \nPourquoi participer ?\n– Développez votre intuition et votre confiance en vous. \n– Apprenez des outils simples et accessibles pour éclairer vos décisions. \nVenez découvrir les clés d’une meilleure compréhension de vous-même et des énergies qui vous entourent. Laissez les chiffres et les cartes vous guider vers une nouvelle clarté et sérénité intérieure. \n​​Tarifs:💶 \n– Ateliers 70 €– Pack duo 100€ = 1 adulte + 1 enfant (-14 ans)– Acompte pour l’atelier 20 € ( non remboursable)
URL:https://justinetincelle.com/event/atelier-numerologie-et-oracle-6/
LOCATION:Thonon\, Thonon-les-bains\, 74200\, France
CATEGORIES:Numérologie et Oracles
ATTACH;FMTTYPE=image/jpeg:https://justinetincelle.com/wp-content/uploads/2025/03/site-9.jpg
ORGANIZER;CN="Justine RIBEIRO AGUIAR":MAILTO:info@justineticelle.com
END:VEVENT
BEGIN:VEVENT
DTSTART;TZID=Europe/Paris:20260208T140000
DTEND;TZID=Europe/Paris:20260208T180000
DTSTAMP:20260421T035517
CREATED:20250822T085450Z
LAST-MODIFIED:20251011T121542Z
UID:1197-1770559200-1770573600@justinetincelle.com
SUMMARY:Atelier Numérologie et Oracle
DESCRIPTION:C’est avec joie que Justine et Marie-Agnès vous guideront dans ces stages \, pour vous aider à explorer et concrétiser vos projets pour le mois à venir. Au programme : des ateliers FUN\, ludiques et 100 % interactifs\, conçus pour stimuler votre créativité et votre motivation !​ \nPrésentation de l’Atelier : Numérologie et Oracles​\nDécouvrez un voyage fascinant au cœur de vous-même grâce à la puissance de la numérologie et des oracles. Cet atelier est une invitation à explorer des outils ancestraux de connaissance de soi et de guidance spirituelle\, dans une ambiance bienveillante et intuitive. \nAu programme :🌞\n-La numérologie : 🔢Apprenez à décrypter les chiffres qui vous entourent et à découvrir leur influence sur votre vie. À travers votre date de naissance et le mois\, vous comprendrez comment ces nombres révèlent vos défis et vos opportunités. \n-Les oracles : 💟Plongez\, mois par mois\, dans l’univers inspirant des cartes oraculaires qui en complément de vos chiffres. Cela vous apportera encore plus de clarté enfin de faire des choix conscients. \n– Ateliers 100% pratiques :  ⬆️➡️⤴️ \n– Calculez et interprétez vos énergies spécifiques du mois. \n– Tirer vos propres cartes et analyser leur signification. \n– Échanger avec les autres participants pour enrichir votre compréhension. \nPour qui ?\nCet atelier s’adresse à tous\, que vous soyez curieux(se) de découvrir ces disciplines ou déjà initié(e). Aucun prérequis n’est nécessaire\, seulement l’envie d’en apprendre davantage sur vous-même et sur les messages que l’univers vous envoie. \nPourquoi participer ?\n– Développez votre intuition et votre confiance en vous. \n– Apprenez des outils simples et accessibles pour éclairer vos décisions. \nVenez découvrir les clés d’une meilleure compréhension de vous-même et des énergies qui vous entourent. Laissez les chiffres et les cartes vous guider vers une nouvelle clarté et sérénité intérieure. \n​​Tarifs:💶 \n– Ateliers 70 €– Pack duo 100€ = 1 adulte + 1 enfant (-14 ans)– Acompte pour l’atelier 20 € ( non remboursable)
URL:https://justinetincelle.com/event/atelier-numerologie-et-oracle-7/
LOCATION:Thonon\, Thonon-les-bains\, 74200\, France
CATEGORIES:Numérologie et Oracles
ATTACH;FMTTYPE=image/jpeg:https://justinetincelle.com/wp-content/uploads/2025/08/264b9981c294a1618e621ab671535bfc.jpg
ORGANIZER;CN="Justine RIBEIRO AGUIAR":MAILTO:info@justineticelle.com
END:VEVENT
END:VCALENDAR