BEGIN:VCALENDAR
VERSION:2.0
PRODID:-//JustinEtincelle - ECPv6.15.20//NONSGML v1.0//EN
CALSCALE:GREGORIAN
METHOD:PUBLISH
X-ORIGINAL-URL:https://justinetincelle.com
X-WR-CALDESC:Évènements pour JustinEtincelle
REFRESH-INTERVAL;VALUE=DURATION:PT1H
X-Robots-Tag:noindex
X-PUBLISHED-TTL:PT1H
BEGIN:VTIMEZONE
TZID:Europe/Paris
BEGIN:DAYLIGHT
TZOFFSETFROM:+0100
TZOFFSETTO:+0200
TZNAME:CEST
DTSTART:20240331T010000
END:DAYLIGHT
BEGIN:STANDARD
TZOFFSETFROM:+0200
TZOFFSETTO:+0100
TZNAME:CET
DTSTART:20241027T010000
END:STANDARD
BEGIN:DAYLIGHT
TZOFFSETFROM:+0100
TZOFFSETTO:+0200
TZNAME:CEST
DTSTART:20250330T010000
END:DAYLIGHT
BEGIN:STANDARD
TZOFFSETFROM:+0200
TZOFFSETTO:+0100
TZNAME:CET
DTSTART:20251026T010000
END:STANDARD
BEGIN:DAYLIGHT
TZOFFSETFROM:+0100
TZOFFSETTO:+0200
TZNAME:CEST
DTSTART:20260329T010000
END:DAYLIGHT
BEGIN:STANDARD
TZOFFSETFROM:+0200
TZOFFSETTO:+0100
TZNAME:CET
DTSTART:20261025T010000
END:STANDARD
END:VTIMEZONE
BEGIN:VEVENT
DTSTART;TZID=Europe/Paris:20250118T100000
DTEND;TZID=Europe/Paris:20250119T180000
DTSTAMP:20260421T222521
CREATED:20250302T090012Z
LAST-MODIFIED:20250519T114102Z
UID:477-1737194400-1737309600@justinetincelle.com
SUMMARY:Le salon du bien-être d'Evian
DESCRIPTION:Je serai présente le samedi de 10h à 19h et le dimanche de 10h à 18h au salon du bien-être d’Evian: \nLe Palais des Festivités\, Place Charles Cottet\, 74500 Évian-les-Bains. \nJe vous propose à cette occasion : \n– Deux conférences \nUne samedi 18 ” À la découverte de la Numérologie” \n13h35 – 14h05 Salle 1 \nUne dimanche 19 “C’est quoi un Référentiel de Naissance?” \n13h30 – 14h Salle 2 \n– Une tombola avec possibilité de gagner un soin énergétique. \n– 20 – 30min de découverte de votre Numérologie et/ou de votre Référentiel de Naissance pour 30€. \n​ \nLes gagnants de la tombola sont : \n           – Paloma L \n           – Danielle S \n 
URL:https://justinetincelle.com/event/le-salon-du-bien-etre-devian/
LOCATION:Palais des festivités\, Pl. Peintre Charles Cottet\, Évian-les-Bains\, 74500
CATEGORIES:Salon du bien-être
END:VEVENT
END:VCALENDAR