BEGIN:VCALENDAR
VERSION:2.0
PRODID:-//JustinEtincelle - ECPv6.15.20//NONSGML v1.0//EN
CALSCALE:GREGORIAN
METHOD:PUBLISH
X-ORIGINAL-URL:https://justinetincelle.com
X-WR-CALDESC:Évènements pour JustinEtincelle
REFRESH-INTERVAL;VALUE=DURATION:PT1H
X-Robots-Tag:noindex
X-PUBLISHED-TTL:PT1H
BEGIN:VTIMEZONE
TZID:Europe/Paris
BEGIN:DAYLIGHT
TZOFFSETFROM:+0100
TZOFFSETTO:+0200
TZNAME:CEST
DTSTART:20240331T010000
END:DAYLIGHT
BEGIN:STANDARD
TZOFFSETFROM:+0200
TZOFFSETTO:+0100
TZNAME:CET
DTSTART:20241027T010000
END:STANDARD
BEGIN:DAYLIGHT
TZOFFSETFROM:+0100
TZOFFSETTO:+0200
TZNAME:CEST
DTSTART:20250330T010000
END:DAYLIGHT
BEGIN:STANDARD
TZOFFSETFROM:+0200
TZOFFSETTO:+0100
TZNAME:CET
DTSTART:20251026T010000
END:STANDARD
BEGIN:DAYLIGHT
TZOFFSETFROM:+0100
TZOFFSETTO:+0200
TZNAME:CEST
DTSTART:20260329T010000
END:DAYLIGHT
BEGIN:STANDARD
TZOFFSETFROM:+0200
TZOFFSETTO:+0100
TZNAME:CET
DTSTART:20261025T010000
END:STANDARD
END:VTIMEZONE
BEGIN:VEVENT
DTSTART;TZID=Europe/Paris:20250920T100000
DTEND;TZID=Europe/Paris:20250921T180000
DTSTAMP:20260421T075308
CREATED:20250318T135748Z
LAST-MODIFIED:20250922T080544Z
UID:712-1758362400-1758477600@justinetincelle.com
SUMMARY:Salon du Bien-être de Thonon
DESCRIPTION:Je serai présente le samedi de 10h à 19h et le dimanche de 10h à 18h au salon du bien-être de Thonon:8 Av. des Abattoirs\, 74200 Thonon-les-Bains.​ \nJe vous propose à cette occasion :– Deux conférencesUne samedi   » À la découverte de la Numérologie » : 13h20 – 13h50 Salle 1 \nUne dimanche  « C’est quoi un Tarot de Naissance? » : 12h50 – 13h20 Salle 1 \n– Une tombola avec possibilité de gagner un soin énergétique.– 20 – 30min de découverte de votre Numérologie et/ou de votre Tarot de Naissance pour 30€. \n​Le(a) gagnant(e) de la tombola est:– Mauricette G.
URL:https://justinetincelle.com/event/salon-du-bien-etre-de-thonon/
LOCATION:Espace Tully\, 8 Av. des Abattoirs\, Thonon-les-Bains\, Haute savoie\, 74200\, France
CATEGORIES:Salon du bien-être
ATTACH;FMTTYPE=image/jpeg:https://justinetincelle.com/wp-content/uploads/2025/03/WhatsApp-Image-2025-03-18-a-14.52.51_fd07aa5f.jpg
ORGANIZER;CN="Th%C3%A9rapeute Zen":MAILTO:therapeuteszen@gmail.com
END:VEVENT
BEGIN:VEVENT
DTSTART;TZID=Europe/Paris:20250927T140000
DTEND;TZID=Europe/Paris:20250927T180000
DTSTAMP:20260421T075308
CREATED:20250520T124150Z
LAST-MODIFIED:20250711T115443Z
UID:948-1758981600-1758996000@justinetincelle.com
SUMMARY:Atelier Numérologie niveau 1
DESCRIPTION:Atelier : numérologie niveau 1 \nPrésentation de l’Atelier : Numérologie \nVous vous sentez un peu perdu\, dans le flou ou vous avez l’impression d’ignorer vos qualités …. alors cet atelier est fait pour vous. \nDécouvrez un voyage fascinant au cœur de vous-même grâce à la puissance de la numérologie. C’est une invitation à explorer des outils ancestraux de connaissance de soi\, dans une ambiance bienveillante et pétillante. \nAu programme :🌞\n\nLa numérologie : 🔢Apprenez à décrypter les chiffres qui vous entourent et à découvrir leur influence sur votre vie. À travers votre date de naissance\, tous vos prénoms et noms de famille\, vous comprendrez comment ces nombres révèlent vos défis et vos opportunités.\nAteliers 100% pratiques :  ⬆️➡️⤴️Calculez et interprétez les énergies disponibles depuis votre naissance ainsi que celle à venir.\nÉchanger avec les autres participants pour enrichir votre compréhension. \nDes petits jeux ludiques pour vous permettre de retenir plus facilement chaque chiffre. \n\n\nPour qui ?\nCet atelier s’adresse à tous\, que vous soyez curieux(se) de découvrir cette discipline ou déjà initié(e)s. Aucun prérequis n’est nécessaire\, seulement l’envie d’en apprendre davantage sur vous-même et sur les messages que l’univers vous envoie. \nPourquoi participer ?\n\nSortir du flou ambiant.\nApprendre à mieux vous connaître.\nSavoir sur quelles forces vous pouvez vous appuyer pour relever les défis qui se présentent à vous.\nApprendre un outil simple et accessible pour éclairer vos décisions.\n\nVenez découvrir les clés d’une meilleure compréhension de vous-même et des énergies qui vous entourent. Laissez les chiffres vous guider vers une nouvelle clarté et sérénité intérieure. \n🧡Plus d’informations🌞: \nmail: info@justineticelle.com tél:  +33 (0) 6 26 86 31 73 \ntarifs:💶 \n– Atelier à 70 € avec un acompte de 20 € ( non remboursable)
URL:https://justinetincelle.com/event/atelier-numerologie-niveau-1/
LOCATION:Dojo entre Terre et Ciel\, 10 chemin du dessous des crêts​\, Thonon-les-bains\, 74200\, France
CATEGORIES:Numérologie
ATTACH;FMTTYPE=image/jpeg:https://justinetincelle.com/wp-content/uploads/2025/03/site-14.jpg
ORGANIZER;CN="Justine RIBEIRO AGUIAR":MAILTO:info@justineticelle.com
END:VEVENT
END:VCALENDAR